BEGIN:VCALENDAR
PRODID:-//www.croda.com//iCalendar MIMEDIR//EN
VERSION:2.0
METHOD:PUBLISH
BEGIN:VEVENT

DTSTART:20260520T080000Z
DTEND:20260521T170000Z
LOCATION: Hall 5, NEC, Birmingham, UK
CATEGORIES:
TRANSP:OPAQUE
SEQUENCE:0
UID:RFCALITEM0e032fd2-4703-447d-b6e5-4a821d4ba527
DTSTAMP:20260520T080000Z
DESCRIPTION:CHEMUK (Chemical UK Expo) is the UK’s largest dedicated trade exhibition for the chemical, process engineering, and formulated product industries. Held annually at the NEC in Birmingham, the event brings together the full chemical supply chain, from raw material and speciality chemical suppliers to process engineers, formulators, laboratory professionals, and regulatory specialists. Organised into multiple focused show zones, CHEMUK showcases the latest innovations in chemical manufacturing, processing technologies, laboratory equipment, sustainability, safety, and compliance. Alongside the exhibition, the event features a comprehensive conference programme, making it a key platform for knowledge sharing, networking, and business development across the UK chemical sector. \n\nCroda Industrial Specialties will be exhibiting at CHEMUK at stand E150, where the team will showcase its expertise and innovative solutions, and engage with customers and partners across the chemical and process industries to discuss performance materials, sustainable technologies, and industry challenges.\n\nExhibition: CHEMUK 2026 \n\nStand no.: Stand E150\n\nExhibtion details: https://www.chemicalukexpo.com/en/\n
URL;VALUE=URI:https://www.chemicalukexpo.com/en/
SUMMARY:CHEMUK 2026 

PRIORITY:4
CLASS:PUBLIC
BEGIN:VALARM
TRIGGER:PT15M
ACTION:DISPLAY
DESCRIPTION:Reminder
PRIORITY:5
END:VALARM
END:VEVENT
END:VCALENDAR