BEGIN:VCALENDAR
PRODID:-//www.croda.com//iCalendar MIMEDIR//EN
VERSION:2.0
METHOD:PUBLISH
BEGIN:VEVENT

DTSTART:20260609T080000Z
DTEND:20260610T170000Z
LOCATION:Coventry Building Society Arena, Coventry, United Kingdom
CATEGORIES:
TRANSP:OPAQUE
SEQUENCE:0
UID:RFCALITEM15eb0327-d635-45aa-bfde-cd21767e919e
DTSTAMP:20260609T080000Z
DESCRIPTION:Surfex is the UK’s only major exhibition dedicated to surface, paint and coatings technology, bringing together suppliers, solution providers and technical experts under one roof. The event showcases the latest innovations, free technical seminars, and networking opportunities across the entire coatings supply chain.\n\nExhibition: SURFEX 2026\n\nExhibtion details: https://www.surfex.co.uk/\n
URL;VALUE=URI:https://www.surfex.co.uk/
SUMMARY:SURFEX 2026

PRIORITY:4
CLASS:PUBLIC
BEGIN:VALARM
TRIGGER:PT15M
ACTION:DISPLAY
DESCRIPTION:Reminder
PRIORITY:5
END:VALARM
END:VEVENT
END:VCALENDAR