BEGIN:VCALENDAR
PRODID:-//www.croda.com//iCalendar MIMEDIR//EN
VERSION:2.0
METHOD:PUBLISH
BEGIN:VEVENT

DTSTART:20260421T090000Z
DTEND:20260424T170000Z
LOCATION:Frankfurt, Germany
CATEGORIES:
TRANSP:OPAQUE
SEQUENCE:0
UID:RFCALITEM3a081466-25af-4cb5-ac8a-34f6a2fb0733
DTSTAMP:20260421T090000Z
DESCRIPTION:Techtextil is the leading international trade fair for technical textiles and nonwovens, bringing together innovators, manufacturers, and industry experts from across the global textiles value chain. The event showcases cutting-edge materials, functional textiles, processing technologies, and applications across sectors such as automotive, construction, medical, industrial, and protective textiles. It serves as a key platform for knowledge exchange, networking, and discovering trends shaping the future of advanced textile solutions.\nCroda Industrial Specialties will be visiting Techtextil, providing an opportunity to connect and discuss innovative material solutions, performance additives, and sustainable technologies tailored to advanced textile and industrial applications.\n\nExhibition: Techtextil - Frankfurt 2026\n\nExhibtion details: https://techtextil.messefrankfurt.com\n
URL;VALUE=URI:https://techtextil.messefrankfurt.com
SUMMARY:Techtextil - Frankfurt 2026

PRIORITY:4
CLASS:PUBLIC
BEGIN:VALARM
TRIGGER:PT15M
ACTION:DISPLAY
DESCRIPTION:Reminder
PRIORITY:5
END:VALARM
END:VEVENT
END:VCALENDAR