BEGIN:VCALENDAR
PRODID:-//www.croda.com//iCalendar MIMEDIR//EN
VERSION:2.0
METHOD:PUBLISH
BEGIN:VEVENT

DTSTART:20260602T080000Z
DTEND:20260603T170000Z
LOCATION:Hilton Düsseldorf, Düsseldorf, Germany
CATEGORIES:
TRANSP:OPAQUE
SEQUENCE:0
UID:RFCALITEMaa343fde-0656-4b27-b195-a1fd5609a34d
DTSTAMP:20260602T080000Z
DESCRIPTION:The European EV Thermal Management Summit & Show (EEVTMS) brings together industry leaders to explore the latest technologies and innovations in thermal management for electric and hybrid vehicles. Through expert keynotes, technical sessions, and an exhibition, the event supports collaboration, R&D strategy, and sustainable automotive development across Europe.\n\nExhibition: European EV Thermal Management Summit & Show 2026 \n\nStand no.: Stand 19\n\nExhibtion details: https://www.ecv-events.com/EEVTMS\n
URL;VALUE=URI:https://www.ecv-events.com/EEVTMS
SUMMARY:European EV Thermal Management Summit & Show 2026 

PRIORITY:4
CLASS:PUBLIC
BEGIN:VALARM
TRIGGER:PT15M
ACTION:DISPLAY
DESCRIPTION:Reminder
PRIORITY:5
END:VALARM
END:VEVENT
END:VCALENDAR