BEGIN:VCALENDAR
PRODID:-//www.croda.com//iCalendar MIMEDIR//EN
VERSION:2.0
METHOD:PUBLISH
BEGIN:VEVENT

DTSTART:20260518T080000Z
DTEND:20260520T170000Z
LOCATION:Recinto Gran Via - Barcelona
CATEGORIES:
TRANSP:OPAQUE
SEQUENCE:0
UID:RFCALITEMce8d7848-7191-4c73-a3de-732d82a3d72b
DTSTAMP:20260518T080000Z
DESCRIPTION:Construmat is a flagship international trade fair for the construction industry and a key reference event in Spain and Southern Europe. Hosted at Fira Barcelona, it brings together professionals from across the entire building value chain to showcase innovative materials, systems, and construction solutions. The event places a strong emphasis on sustainability, digital transformation, and applied innovation, highlighting technologies and practices that support greener, more efficient, and more resilient construction models. Construmat also acts as a platform for knowledge exchange, featuring conferences, demonstrations, and networking opportunities that address current and future challenges in the built environment.\nVisiting Company\n\nCroda Industrial Specialties will be visiting Construmat, engaging with industry stakeholders, and exploring sustainable construction materials, performance solutions, and emerging technologies relevant to modern building applications.\n\nExhibition: Construmat 2026\n\nExhibtion details: https://www.construmat.com/en/evento/\n
URL;VALUE=URI:https://www.construmat.com/en/evento/
SUMMARY:Construmat 2026

PRIORITY:4
CLASS:PUBLIC
BEGIN:VALARM
TRIGGER:PT15M
ACTION:DISPLAY
DESCRIPTION:Reminder
PRIORITY:5
END:VALARM
END:VEVENT
END:VCALENDAR